BEGIN:VCALENDAR
VERSION:2.0
PRODID:-//Tukios.com/
BEGIN:VEVENT
UID:9dbc19fc-3e1a-484d-b1e5-5a9280a8f5d8@www.edgingtonfuneralhomes.com
DTSTAMP:20260420T235855Z
DTSTART:20260424T150000Z
DTEND:20260424T160000Z
SUMMARY:Funeral Service
DESCRIPTION:
URL:https://www.edgingtonfuneralhomes.com/obituaries/mark-suiter
LOCATION: 138 E Main St  Hillsboro OH 45133
GEO:39.202234;-83.6097265
END:VEVENT
END:VCALENDAR