BEGIN:VCALENDAR
VERSION:2.0
PRODID:-//Tukios.com/
BEGIN:VEVENT
UID:fe788f8a-b003-4f6e-a7aa-8662f4ee1b80@www.edgingtonfuneralhomes.com
DTSTAMP:20260420T235703Z
DTSTART:20260423T220000Z
DTEND:20260424T000000Z
SUMMARY:Visitation
DESCRIPTION:
URL:https://www.edgingtonfuneralhomes.com/obituaries/mark-suiter
LOCATION: 138 E Main St  Hillsboro OH 45133
GEO:39.202234;-83.6097265
END:VEVENT
END:VCALENDAR